BEGIN:VCALENDAR
VERSION:2.0
PRODID:-//Yachtclub Greetsiel - ECPv6.15.20//NONSGML v1.0//EN
CALSCALE:GREGORIAN
METHOD:PUBLISH
X-ORIGINAL-URL:https://www.yachtclub-greetsiel.de
X-WR-CALDESC:Veranstaltungen für Yachtclub Greetsiel
REFRESH-INTERVAL;VALUE=DURATION:PT1H
X-Robots-Tag:noindex
X-PUBLISHED-TTL:PT1H
BEGIN:VTIMEZONE
TZID:Europe/Berlin
BEGIN:DAYLIGHT
TZOFFSETFROM:+0100
TZOFFSETTO:+0200
TZNAME:CEST
DTSTART:20220327T010000
END:DAYLIGHT
BEGIN:STANDARD
TZOFFSETFROM:+0200
TZOFFSETTO:+0100
TZNAME:CET
DTSTART:20221030T010000
END:STANDARD
BEGIN:DAYLIGHT
TZOFFSETFROM:+0100
TZOFFSETTO:+0200
TZNAME:CEST
DTSTART:20230326T010000
END:DAYLIGHT
BEGIN:STANDARD
TZOFFSETFROM:+0200
TZOFFSETTO:+0100
TZNAME:CET
DTSTART:20231029T010000
END:STANDARD
BEGIN:DAYLIGHT
TZOFFSETFROM:+0100
TZOFFSETTO:+0200
TZNAME:CEST
DTSTART:20240331T010000
END:DAYLIGHT
BEGIN:STANDARD
TZOFFSETFROM:+0200
TZOFFSETTO:+0100
TZNAME:CET
DTSTART:20241027T010000
END:STANDARD
END:VTIMEZONE
BEGIN:VEVENT
DTSTART;TZID=Europe/Berlin:20230810T170000
DTEND;TZID=Europe/Berlin:20230810T193000
DTSTAMP:20260420T173443
CREATED:20180206T101209Z
LAST-MODIFIED:20230808T095708Z
UID:405-1691686800-1691695800@www.yachtclub-greetsiel.de
SUMMARY:Arbeitsdienst
DESCRIPTION:Thomas lädt zum Arbeitsdienst am Donnerstag\, den 10.08.\, ab 17 Uhr ein.
URL:https://www.yachtclub-greetsiel.de/event/arbeitsdienst-7/
LOCATION:Steganlage\, 53.502580\, 7.100056
CATEGORIES:Arbeitsdienst
END:VEVENT
BEGIN:VEVENT
DTSTART;TZID=Europe/Berlin:20230825T190000
DTEND;TZID=Europe/Berlin:20230825T203000
DTSTAMP:20260420T173443
CREATED:20230816T093520Z
LAST-MODIFIED:20230817T055808Z
UID:623-1692990000-1692995400@www.yachtclub-greetsiel.de
SUMMARY:Steuermannsbesprechung
DESCRIPTION:Am Freitag\, den 25.08.2023 findet die Steuermannsbesprechung um 19 Uhr im blauen Container statt. Dort werden alle Einzelheiten besprochen wie Strecke und Gruppeneinteilung. Der Startschuss fällt dann am Samstag um 09:30 Uhr. Die Segler sollten sich spätestens 5 Minuten vor Start an der Startlinie einfinden. \nNachdem alle Boote wieder in den Hafen zurückgekehrt sind\, findet voraussichtlich gegen 16 Uhr die Siegerehrung statt. Anschließend wird der Grill angefeuert und gemeinsam ein Sommerfest gefeiert. Für Fleisch und Getränke wird gesorgt sein. Wir bitten wie immer darum\, etwas zum Salatbuffet beizusteuern. Als Aufwandsentschädigung sammeln wir 20 € pro Person ein.
URL:https://www.yachtclub-greetsiel.de/event/steuermannsbesprechung/
LOCATION:Steganlage\, 53.502580\, 7.100056
CATEGORIES:Regatta,Vereinsintern
END:VEVENT
END:VCALENDAR