BEGIN:VCALENDAR
VERSION:2.0
PRODID:-//Yachtclub Greetsiel - ECPv6.15.20//NONSGML v1.0//EN
CALSCALE:GREGORIAN
METHOD:PUBLISH
X-WR-CALNAME:Yachtclub Greetsiel
X-ORIGINAL-URL:https://www.yachtclub-greetsiel.de
X-WR-CALDESC:Veranstaltungen für Yachtclub Greetsiel
REFRESH-INTERVAL;VALUE=DURATION:PT1H
X-Robots-Tag:noindex
X-PUBLISHED-TTL:PT1H
BEGIN:VTIMEZONE
TZID:Europe/Berlin
BEGIN:DAYLIGHT
TZOFFSETFROM:+0100
TZOFFSETTO:+0200
TZNAME:CEST
DTSTART:20230326T010000
END:DAYLIGHT
BEGIN:STANDARD
TZOFFSETFROM:+0200
TZOFFSETTO:+0100
TZNAME:CET
DTSTART:20231029T010000
END:STANDARD
BEGIN:DAYLIGHT
TZOFFSETFROM:+0100
TZOFFSETTO:+0200
TZNAME:CEST
DTSTART:20240331T010000
END:DAYLIGHT
BEGIN:STANDARD
TZOFFSETFROM:+0200
TZOFFSETTO:+0100
TZNAME:CET
DTSTART:20241027T010000
END:STANDARD
BEGIN:DAYLIGHT
TZOFFSETFROM:+0100
TZOFFSETTO:+0200
TZNAME:CEST
DTSTART:20250330T010000
END:DAYLIGHT
BEGIN:STANDARD
TZOFFSETFROM:+0200
TZOFFSETTO:+0100
TZNAME:CET
DTSTART:20251026T010000
END:STANDARD
END:VTIMEZONE
BEGIN:VEVENT
DTSTART;TZID=Europe/Berlin:20240802T180000
DTEND;TZID=Europe/Berlin:20240802T235900
DTSTAMP:20260420T072314
CREATED:20181203T104438Z
LAST-MODIFIED:20240715T053711Z
UID:547-1722621600-1722643140@www.yachtclub-greetsiel.de
SUMMARY:Hausbooteinweihung / Sommerfest
DESCRIPTION:Geplant ist\, ab 18:00 Uhr zu grillen und den Abend dann mit reichlich Kaltgetränken zu feiern. Bitte meldet euch bis zum 26.07.2024 bei Janna an\, damit wir genauer planen können. \n  \nEinladungsflyer
URL:https://www.yachtclub-greetsiel.de/event/hausbooteinweihung-sommerfest-2024/
LOCATION:Hausboot\, 53.501786\, 7.099663
CATEGORIES:Fest,Vereinsintern
END:VEVENT
END:VCALENDAR