BEGIN:VCALENDAR
VERSION:2.0
PRODID:-//Yachtclub Greetsiel - ECPv6.15.20//NONSGML v1.0//EN
CALSCALE:GREGORIAN
METHOD:PUBLISH
X-WR-CALNAME:Yachtclub Greetsiel
X-ORIGINAL-URL:https://www.yachtclub-greetsiel.de
X-WR-CALDESC:Veranstaltungen für Yachtclub Greetsiel
REFRESH-INTERVAL;VALUE=DURATION:PT1H
X-Robots-Tag:noindex
X-PUBLISHED-TTL:PT1H
BEGIN:VTIMEZONE
TZID:Europe/Berlin
BEGIN:DAYLIGHT
TZOFFSETFROM:+0100
TZOFFSETTO:+0200
TZNAME:CEST
DTSTART:20220327T010000
END:DAYLIGHT
BEGIN:STANDARD
TZOFFSETFROM:+0200
TZOFFSETTO:+0100
TZNAME:CET
DTSTART:20221030T010000
END:STANDARD
BEGIN:DAYLIGHT
TZOFFSETFROM:+0100
TZOFFSETTO:+0200
TZNAME:CEST
DTSTART:20230326T010000
END:DAYLIGHT
BEGIN:STANDARD
TZOFFSETFROM:+0200
TZOFFSETTO:+0100
TZNAME:CET
DTSTART:20231029T010000
END:STANDARD
BEGIN:DAYLIGHT
TZOFFSETFROM:+0100
TZOFFSETTO:+0200
TZNAME:CEST
DTSTART:20240331T010000
END:DAYLIGHT
BEGIN:STANDARD
TZOFFSETFROM:+0200
TZOFFSETTO:+0100
TZNAME:CET
DTSTART:20241027T010000
END:STANDARD
END:VTIMEZONE
BEGIN:VEVENT
DTSTART;TZID=Europe/Berlin:20231115T160000
DTEND;TZID=Europe/Berlin:20231115T180000
DTSTAMP:20260419T143112
CREATED:20180206T100848Z
LAST-MODIFIED:20231113T070337Z
UID:399-1700064000-1700071200@www.yachtclub-greetsiel.de
SUMMARY:Arbeitsdienst
DESCRIPTION:Marco lädt zum Arbeitsdienst am 15.11. um 16 Uhr beim Hafen ein.
URL:https://www.yachtclub-greetsiel.de/event/arbeitsdienst-4/
LOCATION:Steganlage\, 53.502580\, 7.100056
CATEGORIES:Arbeitsdienst
END:VEVENT
END:VCALENDAR