BEGIN:VCALENDAR
VERSION:2.0
PRODID:-//Yachtclub Greetsiel - ECPv6.15.20//NONSGML v1.0//EN
CALSCALE:GREGORIAN
METHOD:PUBLISH
X-ORIGINAL-URL:https://www.yachtclub-greetsiel.de
X-WR-CALDESC:Veranstaltungen für Yachtclub Greetsiel
REFRESH-INTERVAL;VALUE=DURATION:PT1H
X-Robots-Tag:noindex
X-PUBLISHED-TTL:PT1H
BEGIN:VTIMEZONE
TZID:Europe/Berlin
BEGIN:DAYLIGHT
TZOFFSETFROM:+0100
TZOFFSETTO:+0200
TZNAME:CEST
DTSTART:20230326T010000
END:DAYLIGHT
BEGIN:STANDARD
TZOFFSETFROM:+0200
TZOFFSETTO:+0100
TZNAME:CET
DTSTART:20231029T010000
END:STANDARD
BEGIN:DAYLIGHT
TZOFFSETFROM:+0100
TZOFFSETTO:+0200
TZNAME:CEST
DTSTART:20240331T010000
END:DAYLIGHT
BEGIN:STANDARD
TZOFFSETFROM:+0200
TZOFFSETTO:+0100
TZNAME:CET
DTSTART:20241027T010000
END:STANDARD
BEGIN:DAYLIGHT
TZOFFSETFROM:+0100
TZOFFSETTO:+0200
TZNAME:CEST
DTSTART:20250330T010000
END:DAYLIGHT
BEGIN:STANDARD
TZOFFSETFROM:+0200
TZOFFSETTO:+0100
TZNAME:CET
DTSTART:20251026T010000
END:STANDARD
END:VTIMEZONE
BEGIN:VEVENT
DTSTART;TZID=Europe/Berlin:20240515T170000
DTEND;TZID=Europe/Berlin:20240515T190000
DTSTAMP:20260421T103708
CREATED:20180206T101123Z
LAST-MODIFIED:20240509T161144Z
UID:403-1715792400-1715799600@www.yachtclub-greetsiel.de
SUMMARY:Arbeitsdienst
DESCRIPTION:Um das Hausboot vorzubereiten ist ein Arbeitsdienst am 15.05. ab 17 Uhr geplant.
URL:https://www.yachtclub-greetsiel.de/event/arbeitsdienst-6/
LOCATION:Steganlage\, 53.502580\, 7.100056
CATEGORIES:Arbeitsdienst
END:VEVENT
END:VCALENDAR